BEGIN:VCALENDAR
VERSION:2.0
PRODID:-//Discover Here - ECPv6.15.20//NONSGML v1.0//EN
CALSCALE:GREGORIAN
METHOD:PUBLISH
X-ORIGINAL-URL:https://discoverhereevents.com
X-WR-CALDESC:Events for Discover Here
REFRESH-INTERVAL;VALUE=DURATION:PT1H
X-Robots-Tag:noindex
X-PUBLISHED-TTL:PT1H
BEGIN:VTIMEZONE
TZID:America/New_York
BEGIN:DAYLIGHT
TZOFFSETFROM:-0500
TZOFFSETTO:-0400
TZNAME:EDT
DTSTART:20230312T070000
END:DAYLIGHT
BEGIN:STANDARD
TZOFFSETFROM:-0400
TZOFFSETTO:-0500
TZNAME:EST
DTSTART:20231105T060000
END:STANDARD
BEGIN:DAYLIGHT
TZOFFSETFROM:-0500
TZOFFSETTO:-0400
TZNAME:EDT
DTSTART:20240310T070000
END:DAYLIGHT
BEGIN:STANDARD
TZOFFSETFROM:-0400
TZOFFSETTO:-0500
TZNAME:EST
DTSTART:20241103T060000
END:STANDARD
BEGIN:DAYLIGHT
TZOFFSETFROM:-0500
TZOFFSETTO:-0400
TZNAME:EDT
DTSTART:20250309T070000
END:DAYLIGHT
BEGIN:STANDARD
TZOFFSETFROM:-0400
TZOFFSETTO:-0500
TZNAME:EST
DTSTART:20251102T060000
END:STANDARD
END:VTIMEZONE
BEGIN:VEVENT
DTSTART;TZID=America/New_York:20240604T113000
DTEND;TZID=America/New_York:20240604T130000
DTSTAMP:20260425T085017
CREATED:20240520T171700Z
LAST-MODIFIED:20240520T200432Z
UID:1782-1717500600-1717506000@discoverhereevents.com
SUMMARY:Discover Lunchtime Concert Series at SRC!
DESCRIPTION:[vc_row type=”in_container” full_screen_row_position=”middle” column_margin=”default” column_direction=”default” column_direction_tablet=”default” column_direction_phone=”default” scene_position=”center” text_color=”dark” text_align=”left” row_border_radius=”none” row_border_radius_applies=”bg” overflow=”visible” overlay_strength=”0.3″ gradient_direction=”left_to_right” shape_divider_position=”bottom” bg_image_animation=”none”][vc_column column_padding=”no-extra-padding” column_padding_tablet=”inherit” column_padding_phone=”inherit” column_padding_position=”all” column_element_spacing=”default” background_color_opacity=”1″ background_hover_color_opacity=”1″ column_shadow=”none” column_border_radius=”none” column_link_target=”_self” column_position=”default” gradient_direction=”left_to_right” overlay_strength=”0.3″ width=”1/1″ tablet_width_inherit=”default” tablet_text_alignment=”default” phone_text_alignment=”default” animation_type=”default” bg_image_animation=”none” border_type=”simple” column_border_width=”none” column_border_style=”solid”][vc_column_text]\n\n\nThis summer\, step into a world of live music and delight in our lunchtime concert series running from June to September! With a diverse lineup of talented artists\, let the melodies whisk you away to relaxation as you bask in the sunshine and savor your lunch. \n\n\n 
URL:https://discoverhereevents.com/event/discover-lunchtime-concert-series-at-src/
LOCATION:Sidney Research Campus\, 40 Erie Street\, Cambridge\, MA\, 02139\, United States
CATEGORIES:Concert Series
ATTACH;FMTTYPE=image/jpeg:https://discoverhereevents.com/wp-content/uploads/2024/05/concert-series-DH-photo.jpg
END:VEVENT
BEGIN:VEVENT
DTSTART;TZID=America/New_York:20241022T113000
DTEND;TZID=America/New_York:20241022T130000
DTSTAMP:20260425T085017
CREATED:20241021T184203Z
LAST-MODIFIED:20241113T154427Z
UID:1956-1729596600-1729602000@discoverhereevents.com
SUMMARY:Discover Lunchtime Concert Series at SRC!
DESCRIPTION:[vc_row type=”in_container” full_screen_row_position=”middle” column_margin=”default” column_direction=”default” column_direction_tablet=”default” column_direction_phone=”default” scene_position=”center” text_color=”dark” text_align=”left” row_border_radius=”none” row_border_radius_applies=”bg” overflow=”visible” overlay_strength=”0.3″ gradient_direction=”left_to_right” shape_divider_position=”bottom” bg_image_animation=”none”][vc_column column_padding=”no-extra-padding” column_padding_tablet=”inherit” column_padding_phone=”inherit” column_padding_position=”all” column_element_spacing=”default” background_color_opacity=”1″ background_hover_color_opacity=”1″ column_shadow=”none” column_border_radius=”none” column_link_target=”_self” column_position=”default” gradient_direction=”left_to_right” overlay_strength=”0.3″ width=”1/1″ tablet_width_inherit=”default” tablet_text_alignment=”default” phone_text_alignment=”default” animation_type=”default” bg_image_animation=”none” border_type=”simple” column_border_width=”none” column_border_style=”solid”][vc_column_text]\n\n\nThis summer\, step into a world of live music and delight in our lunchtime concert series running from June to September! With a diverse lineup of talented artists\, let the melodies whisk you away to relaxation as you bask in the sunshine and savor your lunch. \n\n\n 
URL:https://discoverhereevents.com/event/discover-lunchtime-concert-series-at-src-2/
LOCATION:Sidney Research Campus\, 40 Erie Street\, Cambridge\, MA\, 02139\, United States
CATEGORIES:Concert Series
ATTACH;FMTTYPE=image/jpeg:https://discoverhereevents.com/wp-content/uploads/2024/05/concert-series-DH-photo.jpg
END:VEVENT
BEGIN:VEVENT
DTSTART;TZID=America/New_York:20241022T113000
DTEND;TZID=America/New_York:20241022T130000
DTSTAMP:20260425T085017
CREATED:20241021T184203Z
LAST-MODIFIED:20241113T154427Z
UID:1956-1729596600-1729602000@discoverhereevents.com
SUMMARY:Discover Lunchtime Concert Series at SRC!
DESCRIPTION:[vc_row type=”in_container” full_screen_row_position=”middle” column_margin=”default” column_direction=”default” column_direction_tablet=”default” column_direction_phone=”default” scene_position=”center” text_color=”dark” text_align=”left” row_border_radius=”none” row_border_radius_applies=”bg” overflow=”visible” overlay_strength=”0.3″ gradient_direction=”left_to_right” shape_divider_position=”bottom” bg_image_animation=”none”][vc_column column_padding=”no-extra-padding” column_padding_tablet=”inherit” column_padding_phone=”inherit” column_padding_position=”all” column_element_spacing=”default” background_color_opacity=”1″ background_hover_color_opacity=”1″ column_shadow=”none” column_border_radius=”none” column_link_target=”_self” column_position=”default” gradient_direction=”left_to_right” overlay_strength=”0.3″ width=”1/1″ tablet_width_inherit=”default” tablet_text_alignment=”default” phone_text_alignment=”default” animation_type=”default” bg_image_animation=”none” border_type=”simple” column_border_width=”none” column_border_style=”solid”][vc_column_text]\n\n\nThis summer\, step into a world of live music and delight in our lunchtime concert series running from June to September! With a diverse lineup of talented artists\, let the melodies whisk you away to relaxation as you bask in the sunshine and savor your lunch. \n\n\n 
URL:https://discoverhereevents.com/event/discover-lunchtime-concert-series-at-src-2/
LOCATION:Sidney Research Campus\, 40 Erie Street\, Cambridge\, MA\, 02139\, United States
CATEGORIES:Concert Series
ATTACH;FMTTYPE=image/jpeg:https://discoverhereevents.com/wp-content/uploads/2024/05/concert-series-DH-photo.jpg
END:VEVENT
BEGIN:VEVENT
DTSTART;TZID=America/New_York:20241022T113000
DTEND;TZID=America/New_York:20241022T130000
DTSTAMP:20260425T085017
CREATED:20241021T184203Z
LAST-MODIFIED:20241113T154427Z
UID:1956-1729596600-1729602000@discoverhereevents.com
SUMMARY:Discover Lunchtime Concert Series at SRC!
DESCRIPTION:[vc_row type=”in_container” full_screen_row_position=”middle” column_margin=”default” column_direction=”default” column_direction_tablet=”default” column_direction_phone=”default” scene_position=”center” text_color=”dark” text_align=”left” row_border_radius=”none” row_border_radius_applies=”bg” overflow=”visible” overlay_strength=”0.3″ gradient_direction=”left_to_right” shape_divider_position=”bottom” bg_image_animation=”none”][vc_column column_padding=”no-extra-padding” column_padding_tablet=”inherit” column_padding_phone=”inherit” column_padding_position=”all” column_element_spacing=”default” background_color_opacity=”1″ background_hover_color_opacity=”1″ column_shadow=”none” column_border_radius=”none” column_link_target=”_self” column_position=”default” gradient_direction=”left_to_right” overlay_strength=”0.3″ width=”1/1″ tablet_width_inherit=”default” tablet_text_alignment=”default” phone_text_alignment=”default” animation_type=”default” bg_image_animation=”none” border_type=”simple” column_border_width=”none” column_border_style=”solid”][vc_column_text]\n\n\nThis summer\, step into a world of live music and delight in our lunchtime concert series running from June to September! With a diverse lineup of talented artists\, let the melodies whisk you away to relaxation as you bask in the sunshine and savor your lunch. \n\n\n 
URL:https://discoverhereevents.com/event/discover-lunchtime-concert-series-at-src-2/
LOCATION:Sidney Research Campus\, 40 Erie Street\, Cambridge\, MA\, 02139\, United States
CATEGORIES:Concert Series
ATTACH;FMTTYPE=image/jpeg:https://discoverhereevents.com/wp-content/uploads/2024/05/concert-series-DH-photo.jpg
END:VEVENT
BEGIN:VEVENT
DTSTART;TZID=America/New_York:20241022T113000
DTEND;TZID=America/New_York:20241022T130000
DTSTAMP:20260425T085017
CREATED:20241021T184203Z
LAST-MODIFIED:20241113T154427Z
UID:1956-1729596600-1729602000@discoverhereevents.com
SUMMARY:Discover Lunchtime Concert Series at SRC!
DESCRIPTION:[vc_row type=”in_container” full_screen_row_position=”middle” column_margin=”default” column_direction=”default” column_direction_tablet=”default” column_direction_phone=”default” scene_position=”center” text_color=”dark” text_align=”left” row_border_radius=”none” row_border_radius_applies=”bg” overflow=”visible” overlay_strength=”0.3″ gradient_direction=”left_to_right” shape_divider_position=”bottom” bg_image_animation=”none”][vc_column column_padding=”no-extra-padding” column_padding_tablet=”inherit” column_padding_phone=”inherit” column_padding_position=”all” column_element_spacing=”default” background_color_opacity=”1″ background_hover_color_opacity=”1″ column_shadow=”none” column_border_radius=”none” column_link_target=”_self” column_position=”default” gradient_direction=”left_to_right” overlay_strength=”0.3″ width=”1/1″ tablet_width_inherit=”default” tablet_text_alignment=”default” phone_text_alignment=”default” animation_type=”default” bg_image_animation=”none” border_type=”simple” column_border_width=”none” column_border_style=”solid”][vc_column_text]\n\n\nThis summer\, step into a world of live music and delight in our lunchtime concert series running from June to September! With a diverse lineup of talented artists\, let the melodies whisk you away to relaxation as you bask in the sunshine and savor your lunch. \n\n\n 
URL:https://discoverhereevents.com/event/discover-lunchtime-concert-series-at-src-2/
LOCATION:Sidney Research Campus\, 40 Erie Street\, Cambridge\, MA\, 02139\, United States
CATEGORIES:Concert Series
ATTACH;FMTTYPE=image/jpeg:https://discoverhereevents.com/wp-content/uploads/2024/05/concert-series-DH-photo.jpg
END:VEVENT
BEGIN:VEVENT
DTSTART;TZID=America/New_York:20241022T113000
DTEND;TZID=America/New_York:20241022T130000
DTSTAMP:20260425T085017
CREATED:20241021T184203Z
LAST-MODIFIED:20241113T154427Z
UID:1956-1729596600-1729602000@discoverhereevents.com
SUMMARY:Discover Lunchtime Concert Series at SRC!
DESCRIPTION:[vc_row type=”in_container” full_screen_row_position=”middle” column_margin=”default” column_direction=”default” column_direction_tablet=”default” column_direction_phone=”default” scene_position=”center” text_color=”dark” text_align=”left” row_border_radius=”none” row_border_radius_applies=”bg” overflow=”visible” overlay_strength=”0.3″ gradient_direction=”left_to_right” shape_divider_position=”bottom” bg_image_animation=”none”][vc_column column_padding=”no-extra-padding” column_padding_tablet=”inherit” column_padding_phone=”inherit” column_padding_position=”all” column_element_spacing=”default” background_color_opacity=”1″ background_hover_color_opacity=”1″ column_shadow=”none” column_border_radius=”none” column_link_target=”_self” column_position=”default” gradient_direction=”left_to_right” overlay_strength=”0.3″ width=”1/1″ tablet_width_inherit=”default” tablet_text_alignment=”default” phone_text_alignment=”default” animation_type=”default” bg_image_animation=”none” border_type=”simple” column_border_width=”none” column_border_style=”solid”][vc_column_text]\n\n\nThis summer\, step into a world of live music and delight in our lunchtime concert series running from June to September! With a diverse lineup of talented artists\, let the melodies whisk you away to relaxation as you bask in the sunshine and savor your lunch. \n\n\n 
URL:https://discoverhereevents.com/event/discover-lunchtime-concert-series-at-src-2/
LOCATION:Sidney Research Campus\, 40 Erie Street\, Cambridge\, MA\, 02139\, United States
CATEGORIES:Concert Series
ATTACH;FMTTYPE=image/jpeg:https://discoverhereevents.com/wp-content/uploads/2024/05/concert-series-DH-photo.jpg
END:VEVENT
BEGIN:VEVENT
DTSTART;TZID=America/New_York:20241022T113000
DTEND;TZID=America/New_York:20241022T130000
DTSTAMP:20260425T085017
CREATED:20241021T184203Z
LAST-MODIFIED:20241113T154427Z
UID:1956-1729596600-1729602000@discoverhereevents.com
SUMMARY:Discover Lunchtime Concert Series at SRC!
DESCRIPTION:[vc_row type=”in_container” full_screen_row_position=”middle” column_margin=”default” column_direction=”default” column_direction_tablet=”default” column_direction_phone=”default” scene_position=”center” text_color=”dark” text_align=”left” row_border_radius=”none” row_border_radius_applies=”bg” overflow=”visible” overlay_strength=”0.3″ gradient_direction=”left_to_right” shape_divider_position=”bottom” bg_image_animation=”none”][vc_column column_padding=”no-extra-padding” column_padding_tablet=”inherit” column_padding_phone=”inherit” column_padding_position=”all” column_element_spacing=”default” background_color_opacity=”1″ background_hover_color_opacity=”1″ column_shadow=”none” column_border_radius=”none” column_link_target=”_self” column_position=”default” gradient_direction=”left_to_right” overlay_strength=”0.3″ width=”1/1″ tablet_width_inherit=”default” tablet_text_alignment=”default” phone_text_alignment=”default” animation_type=”default” bg_image_animation=”none” border_type=”simple” column_border_width=”none” column_border_style=”solid”][vc_column_text]\n\n\nThis summer\, step into a world of live music and delight in our lunchtime concert series running from June to September! With a diverse lineup of talented artists\, let the melodies whisk you away to relaxation as you bask in the sunshine and savor your lunch. \n\n\n 
URL:https://discoverhereevents.com/event/discover-lunchtime-concert-series-at-src-2/
LOCATION:Sidney Research Campus\, 40 Erie Street\, Cambridge\, MA\, 02139\, United States
CATEGORIES:Concert Series
ATTACH;FMTTYPE=image/jpeg:https://discoverhereevents.com/wp-content/uploads/2024/05/concert-series-DH-photo.jpg
END:VEVENT
BEGIN:VEVENT
DTSTART;TZID=America/New_York:20241022T113000
DTEND;TZID=America/New_York:20241022T130000
DTSTAMP:20260425T085017
CREATED:20241021T184203Z
LAST-MODIFIED:20241113T154427Z
UID:1956-1729596600-1729602000@discoverhereevents.com
SUMMARY:Discover Lunchtime Concert Series at SRC!
DESCRIPTION:[vc_row type=”in_container” full_screen_row_position=”middle” column_margin=”default” column_direction=”default” column_direction_tablet=”default” column_direction_phone=”default” scene_position=”center” text_color=”dark” text_align=”left” row_border_radius=”none” row_border_radius_applies=”bg” overflow=”visible” overlay_strength=”0.3″ gradient_direction=”left_to_right” shape_divider_position=”bottom” bg_image_animation=”none”][vc_column column_padding=”no-extra-padding” column_padding_tablet=”inherit” column_padding_phone=”inherit” column_padding_position=”all” column_element_spacing=”default” background_color_opacity=”1″ background_hover_color_opacity=”1″ column_shadow=”none” column_border_radius=”none” column_link_target=”_self” column_position=”default” gradient_direction=”left_to_right” overlay_strength=”0.3″ width=”1/1″ tablet_width_inherit=”default” tablet_text_alignment=”default” phone_text_alignment=”default” animation_type=”default” bg_image_animation=”none” border_type=”simple” column_border_width=”none” column_border_style=”solid”][vc_column_text]\n\n\nThis summer\, step into a world of live music and delight in our lunchtime concert series running from June to September! With a diverse lineup of talented artists\, let the melodies whisk you away to relaxation as you bask in the sunshine and savor your lunch. \n\n\n 
URL:https://discoverhereevents.com/event/discover-lunchtime-concert-series-at-src-2/
LOCATION:Sidney Research Campus\, 40 Erie Street\, Cambridge\, MA\, 02139\, United States
CATEGORIES:Concert Series
ATTACH;FMTTYPE=image/jpeg:https://discoverhereevents.com/wp-content/uploads/2024/05/concert-series-DH-photo.jpg
END:VEVENT
BEGIN:VEVENT
DTSTART;TZID=America/New_York:20241022T113000
DTEND;TZID=America/New_York:20241022T130000
DTSTAMP:20260425T085017
CREATED:20241021T184203Z
LAST-MODIFIED:20241113T154427Z
UID:1956-1729596600-1729602000@discoverhereevents.com
SUMMARY:Discover Lunchtime Concert Series at SRC!
DESCRIPTION:[vc_row type=”in_container” full_screen_row_position=”middle” column_margin=”default” column_direction=”default” column_direction_tablet=”default” column_direction_phone=”default” scene_position=”center” text_color=”dark” text_align=”left” row_border_radius=”none” row_border_radius_applies=”bg” overflow=”visible” overlay_strength=”0.3″ gradient_direction=”left_to_right” shape_divider_position=”bottom” bg_image_animation=”none”][vc_column column_padding=”no-extra-padding” column_padding_tablet=”inherit” column_padding_phone=”inherit” column_padding_position=”all” column_element_spacing=”default” background_color_opacity=”1″ background_hover_color_opacity=”1″ column_shadow=”none” column_border_radius=”none” column_link_target=”_self” column_position=”default” gradient_direction=”left_to_right” overlay_strength=”0.3″ width=”1/1″ tablet_width_inherit=”default” tablet_text_alignment=”default” phone_text_alignment=”default” animation_type=”default” bg_image_animation=”none” border_type=”simple” column_border_width=”none” column_border_style=”solid”][vc_column_text]\n\n\nThis summer\, step into a world of live music and delight in our lunchtime concert series running from June to September! With a diverse lineup of talented artists\, let the melodies whisk you away to relaxation as you bask in the sunshine and savor your lunch. \n\n\n 
URL:https://discoverhereevents.com/event/discover-lunchtime-concert-series-at-src-2/
LOCATION:Sidney Research Campus\, 40 Erie Street\, Cambridge\, MA\, 02139\, United States
CATEGORIES:Concert Series
ATTACH;FMTTYPE=image/jpeg:https://discoverhereevents.com/wp-content/uploads/2024/05/concert-series-DH-photo.jpg
END:VEVENT
END:VCALENDAR